BEGIN:VCALENDAR
VERSION:2.0
PRODID:-//Compagnia Teatrale Jonica - ECPv6.15.20//NONSGML v1.0//EN
CALSCALE:GREGORIAN
METHOD:PUBLISH
X-ORIGINAL-URL:https://compagniateatralejonica.it
X-WR-CALDESC:Eventi per Compagnia Teatrale Jonica
REFRESH-INTERVAL;VALUE=DURATION:PT1H
X-Robots-Tag:noindex
X-PUBLISHED-TTL:PT1H
BEGIN:VTIMEZONE
TZID:Europe/Rome
BEGIN:DAYLIGHT
TZOFFSETFROM:+0100
TZOFFSETTO:+0200
TZNAME:CEST
DTSTART:20210328T010000
END:DAYLIGHT
BEGIN:STANDARD
TZOFFSETFROM:+0200
TZOFFSETTO:+0100
TZNAME:CET
DTSTART:20211031T010000
END:STANDARD
BEGIN:DAYLIGHT
TZOFFSETFROM:+0100
TZOFFSETTO:+0200
TZNAME:CEST
DTSTART:20220327T010000
END:DAYLIGHT
BEGIN:STANDARD
TZOFFSETFROM:+0200
TZOFFSETTO:+0100
TZNAME:CET
DTSTART:20221030T010000
END:STANDARD
BEGIN:DAYLIGHT
TZOFFSETFROM:+0100
TZOFFSETTO:+0200
TZNAME:CEST
DTSTART:20230326T010000
END:DAYLIGHT
BEGIN:STANDARD
TZOFFSETFROM:+0200
TZOFFSETTO:+0100
TZNAME:CET
DTSTART:20231029T010000
END:STANDARD
BEGIN:DAYLIGHT
TZOFFSETFROM:+0100
TZOFFSETTO:+0200
TZNAME:CEST
DTSTART:20240331T010000
END:DAYLIGHT
BEGIN:STANDARD
TZOFFSETFROM:+0200
TZOFFSETTO:+0100
TZNAME:CET
DTSTART:20241027T010000
END:STANDARD
END:VTIMEZONE
BEGIN:VTIMEZONE
TZID:UTC
BEGIN:STANDARD
TZOFFSETFROM:+0000
TZOFFSETTO:+0000
TZNAME:UTC
DTSTART:20210101T000000
END:STANDARD
END:VTIMEZONE
BEGIN:VEVENT
DTSTART;TZID=Europe/Rome:20230121T173000
DTEND;TZID=Europe/Rome:20230122T173000
DTSTAMP:20260424T185420
CREATED:20221021T100048Z
LAST-MODIFIED:20230112T192123Z
UID:25901-1674322200-1674408600@compagniateatralejonica.it
SUMMARY:Roba da Matti
DESCRIPTION:Sinossi				\n				\n				\n				\n									Il Povero Piero è una commedia surreale di Achille Campanile (autore brillante del secondo ‘900) del filone italiano del teatro dell’Assurdo. La vicenda è pervasa da un umorismo sottile e continuo\, esilarante in certi momenti. La vicenda\, coi suoi relativi equivoci e i suoi continui imprevisti\, nasce dal desiderio del personaggio che da il titolo allo spettacolo\, cioè Piero\, il quale\, vittima di una morte inaspettata e improvvisa\, lascia comunque scritte le sue volontà. Egli pretende che si dia la notizia della sua morte soltanto  dopo aver completato le esequie; senza visite\, senza fiori né tutte le altre consuetudini del caso. La sua famiglia\, obbligata da questa sua assurda volontà\, si trova quindi a dover tenere nascosto l’evento con grande fatica e smarrimento. La situazione scatena una serie di inconvenienti e imprevisti che daranno il via a una sequenza continua di equivoci e incomprensioni fra i divertentissimi personaggi della famiglia con quelli (altrettanto divertenti) esterni alla casa. I familiari del povero Piero saranno costretti a fare i salti mortali per ottemperare ai desideri del defunto ma infine la notizia trapelerà e allora… arriveranno le visite di rito\, con le frasi di rito e le consuete ovvietà che in questi casi si scatenano fra gli ospiti visitatori. A un certo punto\, però\, arriverà un colpo di scena che cambierà le dinamiche di un normale funerale come tanti altri e scatenerà ulteriori litigi e incomprensioni tutte da ridere. Lo spettacolo è un trionfo di coralità. Tantissimi attori in scena assicurano una varietà di personaggi e situazioni divertentissime\, al limite del parossismo. Il testo si presenta come una partitura di caratteri bizzarri e situazioni surreali che diventano\, alla vista e all’ascolto\, un coro collettivo vario e dalle molteplici sfumature sonore e psicologiche. Se dobbiamo fidarci del nostro gusto\, del nostro istinto teatrale\, e del divertimento che la commedia procura a noi che la facciamo\, il risultato dovrebbe garantire (anzi\, ne siamo certi!) anche il massimo divertimento del pubblico. Di questo siamo pressoché sicuri. Quindi: Buon divertimento a tutti! Rosario Minardi 								\n				\n					\n		\n					\n		\n				\n						\n					\n			\n						\n				\n					Coming soon
URL:https://compagniateatralejonica.it/event/roba-da-matti/
LOCATION:Cine Teatro Garibaldi\, Via Garibaldi\, 30/a\, Giarre\, CT\, 95014\, Italia
CATEGORIES:Commedia,Prossimamente
ATTACH;FMTTYPE=image/png:https://compagniateatralejonica.it/wp-content/uploads/2023/01/robadamatti-2.png
END:VEVENT
BEGIN:VEVENT
DTSTART;TZID=Europe/Rome:20221210T173000
DTEND;TZID=Europe/Rome:20221211T173000
DTSTAMP:20260424T185420
CREATED:20221021T100048Z
LAST-MODIFIED:20221120T182152Z
UID:25846-1670693400-1670779800@compagniateatralejonica.it
SUMMARY:Il Povero Piero
DESCRIPTION:Sinossi				\n				\n				\n				\n									Il Povero Piero è una commedia surreale di Achille Campanile (autore brillante del secondo ‘900) del filone italiano del teatro dell’Assurdo. La vicenda è pervasa da un umorismo sottile e continuo\, esilarante in certi momenti. La vicenda\, coi suoi relativi equivoci e i suoi continui imprevisti\, nasce dal desiderio del personaggio che da il titolo allo spettacolo\, cioè Piero\, il quale\, vittima di una morte inaspettata e improvvisa\, lascia comunque scritte le sue volontà. Egli pretende che si dia la notizia della sua morte soltanto  dopo aver completato le esequie; senza visite\, senza fiori né tutte le altre consuetudini del caso. La sua famiglia\, obbligata da questa sua assurda volontà\, si trova quindi a dover tenere nascosto l’evento con grande fatica e smarrimento. La situazione scatena una serie di inconvenienti e imprevisti che daranno il via a una sequenza continua di equivoci e incomprensioni fra i divertentissimi personaggi della famiglia con quelli (altrettanto divertenti) esterni alla casa. I familiari del povero Piero saranno costretti a fare i salti mortali per ottemperare ai desideri del defunto ma infine la notizia trapelerà e allora… arriveranno le visite di rito\, con le frasi di rito e le consuete ovvietà che in questi casi si scatenano fra gli ospiti visitatori. A un certo punto\, però\, arriverà un colpo di scena che cambierà le dinamiche di un normale funerale come tanti altri e scatenerà ulteriori litigi e incomprensioni tutte da ridere. Lo spettacolo è un trionfo di coralità. Tantissimi attori in scena assicurano una varietà di personaggi e situazioni divertentissime\, al limite del parossismo. Il testo si presenta come una partitura di caratteri bizzarri e situazioni surreali che diventano\, alla vista e all’ascolto\, un coro collettivo vario e dalle molteplici sfumature sonore e psicologiche. Se dobbiamo fidarci del nostro gusto\, del nostro istinto teatrale\, e del divertimento che la commedia procura a noi che la facciamo\, il risultato dovrebbe garantire (anzi\, ne siamo certi!) anche il massimo divertimento del pubblico. Di questo siamo pressoché sicuri. Quindi: Buon divertimento a tutti! Rosario Minardi 								\n				\n					\n		\n					\n		\n				\n						\n					\n			\n						\n				\n					Coming soon
URL:https://compagniateatralejonica.it/event/il-povero-piero/
LOCATION:Cine Teatro Garibaldi\, Via Garibaldi\, 30/a\, Giarre\, CT\, 95014\, Italia
CATEGORIES:Commedia,Prossimamente
ATTACH;FMTTYPE=image/jpeg:https://compagniateatralejonica.it/wp-content/uploads/2022/10/FLYER-IL-POVERO-PIERO-2022-GARIBALDI.jpg
END:VEVENT
BEGIN:VEVENT
DTSTART;TZID=UTC:20220521T173000
DTEND;TZID=UTC:20220522T203000
DTSTAMP:20260424T185420
CREATED:20211125T090426Z
LAST-MODIFIED:20220603T081957Z
UID:19018-1653154200-1653251400@compagniateatralejonica.it
SUMMARY:Il Boss...olo di Casa Nostra
DESCRIPTION:Sinossi				\n				\n				\n				\n									Il Povero Piero è una commedia surreale di Achille Campanile (autore brillante del secondo ‘900) del filone italiano del teatro dell’Assurdo. La vicenda è pervasa da un umorismo sottile e continuo\, esilarante in certi momenti. La vicenda\, coi suoi relativi equivoci e i suoi continui imprevisti\, nasce dal desiderio del personaggio che da il titolo allo spettacolo\, cioè Piero\, il quale\, vittima di una morte inaspettata e improvvisa\, lascia comunque scritte le sue volontà. Egli pretende che si dia la notizia della sua morte soltanto  dopo aver completato le esequie; senza visite\, senza fiori né tutte le altre consuetudini del caso. La sua famiglia\, obbligata da questa sua assurda volontà\, si trova quindi a dover tenere nascosto l’evento con grande fatica e smarrimento. La situazione scatena una serie di inconvenienti e imprevisti che daranno il via a una sequenza continua di equivoci e incomprensioni fra i divertentissimi personaggi della famiglia con quelli (altrettanto divertenti) esterni alla casa. I familiari del povero Piero saranno costretti a fare i salti mortali per ottemperare ai desideri del defunto ma infine la notizia trapelerà e allora… arriveranno le visite di rito\, con le frasi di rito e le consuete ovvietà che in questi casi si scatenano fra gli ospiti visitatori. A un certo punto\, però\, arriverà un colpo di scena che cambierà le dinamiche di un normale funerale come tanti altri e scatenerà ulteriori litigi e incomprensioni tutte da ridere. Lo spettacolo è un trionfo di coralità. Tantissimi attori in scena assicurano una varietà di personaggi e situazioni divertentissime\, al limite del parossismo. Il testo si presenta come una partitura di caratteri bizzarri e situazioni surreali che diventano\, alla vista e all’ascolto\, un coro collettivo vario e dalle molteplici sfumature sonore e psicologiche. Se dobbiamo fidarci del nostro gusto\, del nostro istinto teatrale\, e del divertimento che la commedia procura a noi che la facciamo\, il risultato dovrebbe garantire (anzi\, ne siamo certi!) anche il massimo divertimento del pubblico. Di questo siamo pressoché sicuri. Quindi: Buon divertimento a tutti! Rosario Minardi 								\n				\n					\n		\n					\n		\n				\n						\n					\n			\n						\n				\n					Coming soon
URL:https://compagniateatralejonica.it/event/il-boss-olo-di-casa-nostra/
LOCATION:Cine Teatro Musumeci Riposto\, Via Antonio Gramsci\, 164\, Riposto\, 95018\, Italia
CATEGORIES:Comedy,Commedia
ATTACH;FMTTYPE=image/jpeg:https://compagniateatralejonica.it/wp-content/uploads/2021/11/FLYER-IL-BOSSOLO.jpg
END:VEVENT
BEGIN:VEVENT
DTSTART;VALUE=DATE:20220507
DTEND;VALUE=DATE:20220509
DTSTAMP:20260424T185420
CREATED:20200428T112125Z
LAST-MODIFIED:20220511T121622Z
UID:1194-1651881600-1652054399@compagniateatralejonica.it
SUMMARY:Delitto al Castello
DESCRIPTION:Sinossi				\n				\n				\n				\n									Il Povero Piero è una commedia surreale di Achille Campanile (autore brillante del secondo ‘900) del filone italiano del teatro dell’Assurdo. La vicenda è pervasa da un umorismo sottile e continuo\, esilarante in certi momenti. La vicenda\, coi suoi relativi equivoci e i suoi continui imprevisti\, nasce dal desiderio del personaggio che da il titolo allo spettacolo\, cioè Piero\, il quale\, vittima di una morte inaspettata e improvvisa\, lascia comunque scritte le sue volontà. Egli pretende che si dia la notizia della sua morte soltanto  dopo aver completato le esequie; senza visite\, senza fiori né tutte le altre consuetudini del caso. La sua famiglia\, obbligata da questa sua assurda volontà\, si trova quindi a dover tenere nascosto l’evento con grande fatica e smarrimento. La situazione scatena una serie di inconvenienti e imprevisti che daranno il via a una sequenza continua di equivoci e incomprensioni fra i divertentissimi personaggi della famiglia con quelli (altrettanto divertenti) esterni alla casa. I familiari del povero Piero saranno costretti a fare i salti mortali per ottemperare ai desideri del defunto ma infine la notizia trapelerà e allora… arriveranno le visite di rito\, con le frasi di rito e le consuete ovvietà che in questi casi si scatenano fra gli ospiti visitatori. A un certo punto\, però\, arriverà un colpo di scena che cambierà le dinamiche di un normale funerale come tanti altri e scatenerà ulteriori litigi e incomprensioni tutte da ridere. Lo spettacolo è un trionfo di coralità. Tantissimi attori in scena assicurano una varietà di personaggi e situazioni divertentissime\, al limite del parossismo. Il testo si presenta come una partitura di caratteri bizzarri e situazioni surreali che diventano\, alla vista e all’ascolto\, un coro collettivo vario e dalle molteplici sfumature sonore e psicologiche. Se dobbiamo fidarci del nostro gusto\, del nostro istinto teatrale\, e del divertimento che la commedia procura a noi che la facciamo\, il risultato dovrebbe garantire (anzi\, ne siamo certi!) anche il massimo divertimento del pubblico. Di questo siamo pressoché sicuri. Quindi: Buon divertimento a tutti! Rosario Minardi 								\n				\n					\n		\n					\n		\n				\n						\n					\n			\n						\n				\n					Coming soon
URL:https://compagniateatralejonica.it/event/delitto-al-castello/
LOCATION:Cine Teatro Musumeci Riposto\, Via Antonio Gramsci\, 164\, Riposto\, 95018\, Italia
CATEGORIES:Comedy,Commedia
ATTACH;FMTTYPE=image/jpeg:https://compagniateatralejonica.it/wp-content/uploads/2020/04/CONCEPT-DELITTO-AL-CASTELLO-5-FLYER-1-1.jpg
END:VEVENT
BEGIN:VEVENT
DTSTART;VALUE=DATE:20220423
DTEND;VALUE=DATE:20220425
DTSTAMP:20260424T185420
CREATED:20200504T161127Z
LAST-MODIFIED:20220429T072223Z
UID:1741-1650672000-1650844799@compagniateatralejonica.it
SUMMARY:Occhio non Vede
DESCRIPTION:Sinossi				\n				\n				\n				\n									Il Povero Piero è una commedia surreale di Achille Campanile (autore brillante del secondo ‘900) del filone italiano del teatro dell’Assurdo. La vicenda è pervasa da un umorismo sottile e continuo\, esilarante in certi momenti. La vicenda\, coi suoi relativi equivoci e i suoi continui imprevisti\, nasce dal desiderio del personaggio che da il titolo allo spettacolo\, cioè Piero\, il quale\, vittima di una morte inaspettata e improvvisa\, lascia comunque scritte le sue volontà. Egli pretende che si dia la notizia della sua morte soltanto  dopo aver completato le esequie; senza visite\, senza fiori né tutte le altre consuetudini del caso. La sua famiglia\, obbligata da questa sua assurda volontà\, si trova quindi a dover tenere nascosto l’evento con grande fatica e smarrimento. La situazione scatena una serie di inconvenienti e imprevisti che daranno il via a una sequenza continua di equivoci e incomprensioni fra i divertentissimi personaggi della famiglia con quelli (altrettanto divertenti) esterni alla casa. I familiari del povero Piero saranno costretti a fare i salti mortali per ottemperare ai desideri del defunto ma infine la notizia trapelerà e allora… arriveranno le visite di rito\, con le frasi di rito e le consuete ovvietà che in questi casi si scatenano fra gli ospiti visitatori. A un certo punto\, però\, arriverà un colpo di scena che cambierà le dinamiche di un normale funerale come tanti altri e scatenerà ulteriori litigi e incomprensioni tutte da ridere. Lo spettacolo è un trionfo di coralità. Tantissimi attori in scena assicurano una varietà di personaggi e situazioni divertentissime\, al limite del parossismo. Il testo si presenta come una partitura di caratteri bizzarri e situazioni surreali che diventano\, alla vista e all’ascolto\, un coro collettivo vario e dalle molteplici sfumature sonore e psicologiche. Se dobbiamo fidarci del nostro gusto\, del nostro istinto teatrale\, e del divertimento che la commedia procura a noi che la facciamo\, il risultato dovrebbe garantire (anzi\, ne siamo certi!) anche il massimo divertimento del pubblico. Di questo siamo pressoché sicuri. Quindi: Buon divertimento a tutti! Rosario Minardi 								\n				\n					\n		\n					\n		\n				\n						\n					\n			\n						\n				\n					Coming soon
URL:https://compagniateatralejonica.it/event/occhio-non-vede/
LOCATION:Cine Teatro Musumeci Riposto\, Via Antonio Gramsci\, 164\, Riposto\, 95018\, Italia
CATEGORIES:Commedia
ATTACH;FMTTYPE=image/png:https://compagniateatralejonica.it/wp-content/uploads/2022/04/FLYER-OCCHIO-NON-VEDE-FLYER-1.png
END:VEVENT
BEGIN:VEVENT
DTSTART;VALUE=DATE:20220226
DTEND;VALUE=DATE:20220228
DTSTAMP:20260424T185420
CREATED:20211125T090519Z
LAST-MODIFIED:20220404T133237Z
UID:19021-1645833600-1646006399@compagniateatralejonica.it
SUMMARY:Una parente di Troppo
DESCRIPTION:Sinossi				\n				\n				\n				\n									Il Povero Piero è una commedia surreale di Achille Campanile (autore brillante del secondo ‘900) del filone italiano del teatro dell’Assurdo. La vicenda è pervasa da un umorismo sottile e continuo\, esilarante in certi momenti. La vicenda\, coi suoi relativi equivoci e i suoi continui imprevisti\, nasce dal desiderio del personaggio che da il titolo allo spettacolo\, cioè Piero\, il quale\, vittima di una morte inaspettata e improvvisa\, lascia comunque scritte le sue volontà. Egli pretende che si dia la notizia della sua morte soltanto  dopo aver completato le esequie; senza visite\, senza fiori né tutte le altre consuetudini del caso. La sua famiglia\, obbligata da questa sua assurda volontà\, si trova quindi a dover tenere nascosto l’evento con grande fatica e smarrimento. La situazione scatena una serie di inconvenienti e imprevisti che daranno il via a una sequenza continua di equivoci e incomprensioni fra i divertentissimi personaggi della famiglia con quelli (altrettanto divertenti) esterni alla casa. I familiari del povero Piero saranno costretti a fare i salti mortali per ottemperare ai desideri del defunto ma infine la notizia trapelerà e allora… arriveranno le visite di rito\, con le frasi di rito e le consuete ovvietà che in questi casi si scatenano fra gli ospiti visitatori. A un certo punto\, però\, arriverà un colpo di scena che cambierà le dinamiche di un normale funerale come tanti altri e scatenerà ulteriori litigi e incomprensioni tutte da ridere. Lo spettacolo è un trionfo di coralità. Tantissimi attori in scena assicurano una varietà di personaggi e situazioni divertentissime\, al limite del parossismo. Il testo si presenta come una partitura di caratteri bizzarri e situazioni surreali che diventano\, alla vista e all’ascolto\, un coro collettivo vario e dalle molteplici sfumature sonore e psicologiche. Se dobbiamo fidarci del nostro gusto\, del nostro istinto teatrale\, e del divertimento che la commedia procura a noi che la facciamo\, il risultato dovrebbe garantire (anzi\, ne siamo certi!) anche il massimo divertimento del pubblico. Di questo siamo pressoché sicuri. Quindi: Buon divertimento a tutti! Rosario Minardi 								\n				\n					\n		\n					\n		\n				\n						\n					\n			\n						\n				\n					Coming soon
URL:https://compagniateatralejonica.it/event/una-parente-di-troppo/
LOCATION:Cine Teatro Musumeci Riposto\, Via Antonio Gramsci\, 164\, Riposto\, 95018\, Italia
CATEGORIES:Commedia
ATTACH;FMTTYPE=image/jpeg:https://compagniateatralejonica.it/wp-content/uploads/2021/11/unaparenteditroppo.jpg
END:VEVENT
END:VCALENDAR